BEGIN:VCALENDAR
VERSION:2.0
PRODID:-//hacksw/handcal//NONSGML v1.0//EN
CALSCALE:GREGORIAN
BEGIN:VEVENT
DTSTART;VALUE=DATE:20260521
DTEND;VALUE=DATE:20260522
SUMMARY:SSPA InfoTalk Lugano
DESCRIPTION:Le comité de la SSPA a le plaisir de vous donner un bref aperçu des activités passées et futures de la SSPA ainsi que des derniers développements dans le secteur. Chaque membre du comité vous informera de ses principaux projets pour l'année à venir.
URL;VALUE=URI:
LOCATION:Valeur SA\, Via Giuseppe Cattori 12\, 6900 Lugano
DTSTAMP:20260425T195253
UID:69ecff75504fe
END:VEVENT
END:VCALENDAR