BEGIN:VCALENDAR
VERSION:2.0
PRODID:-//hacksw/handcal//NONSGML v1.0//EN
CALSCALE:GREGORIAN
BEGIN:VEVENT
DTSTART;VALUE=DATE:20260611
DTEND;VALUE=DATE:20260612
SUMMARY:20e anniversaire de la SSPA
DESCRIPTION:La SSPA célébrera son 20e anniversaire le jeudi 11 juin 2026\, et nous sommes ravis de marquer cette étape importante avec vous.
URL;VALUE=URI:
LOCATION:LUX Restaurant & Bar\, Claridenstrasse 3\, 8002 Zurich
DTSTAMP:20260425T195223
UID:69ecff573c0bd
END:VEVENT
END:VCALENDAR