BEGIN:VCALENDAR
VERSION:2.0
PRODID:-//hacksw/handcal//NONSGML v1.0//EN
CALSCALE:GREGORIAN
BEGIN:VEVENT
DTSTART;VALUE=DATE:20260901
DTEND;VALUE=DATE:20260903
SUMMARY:International Structured Products Forum
DESCRIPTION:L'organisation et la planification du 16e Forum international sur les produits structurés à Interlaken avancent à grands pas. L'événement de cette année aura lieu les 1er et 2 septembre 2026 au Victoria-Jungfrau Grand Hotel & Spa à Interlaken. Ce sera une excellente occasion d'échanger des idées et de discuter des dernières tendances dans notre secteur.
URL;VALUE=URI:
LOCATION:Victoria-Jungfrau Grand Hotel & Spa\, Höheweg 41\, 3800 Interlaken
DTSTAMP:20260425T195224
UID:69ecff5845f08
END:VEVENT
END:VCALENDAR