BEGIN:VCALENDAR
VERSION:2.0
PRODID:-//hacksw/handcal//NONSGML v1.0//EN
CALSCALE:GREGORIAN
BEGIN:VEVENT
DTSTART;VALUE=DATE:20261103
DTEND;VALUE=DATE:20261104
SUMMARY:SSPA Tec Event
DESCRIPTION:L'événement Tec offre à nos partenaires technologiques l'opportunité de présenter des solutions innovantes et de partager leur expertise avec des représentants du secteur des produits structurés lors de tables rondes. L'accent est mis sur le réseautage et les échanges.
URL;VALUE=URI:
LOCATION:Metropol\, Fraumünsterstrasse 12\, 8001 Zürich
DTSTAMP:20260425T195254
UID:69ecff76288ad
END:VEVENT
END:VCALENDAR