BEGIN:VCALENDAR
VERSION:2.0
PRODID:-//hacksw/handcal//NONSGML v1.0//EN
CALSCALE:GREGORIAN
BEGIN:VEVENT
DTSTART;VALUE=DATE:20261119
DTEND;VALUE=DATE:20261120
SUMMARY:SSPA InfoTalk Genève
DESCRIPTION:Le comité de la SSPA a le plaisir de vous donner un bref aperçu des activités passées et futures de la SSPA ainsi que des derniers développements dans le secteur. Chaque membre du comité vous informera de ses principaux projets pour l'année à venir.
URL;VALUE=URI:
LOCATION:The Ritz Carlton\, 11\, Quai du Mont-Blanc\, 1211 Geneva
DTSTAMP:20260425T195223
UID:69ecff572f304
END:VEVENT
END:VCALENDAR